BEGIN:VCALENDAR
VERSION:2.0
PRODID:-//Groupe One - ECPv6.15.17//NONSGML v1.0//EN
CALSCALE:GREGORIAN
METHOD:PUBLISH
X-ORIGINAL-URL:https://www.groupeone.be
X-WR-CALDESC:Évènements pour Groupe One
REFRESH-INTERVAL;VALUE=DURATION:PT1H
X-Robots-Tag:noindex
X-PUBLISHED-TTL:PT1H
BEGIN:VTIMEZONE
TZID:Europe/Paris
BEGIN:DAYLIGHT
TZOFFSETFROM:+0100
TZOFFSETTO:+0200
TZNAME:CEST
DTSTART:20240331T010000
END:DAYLIGHT
BEGIN:STANDARD
TZOFFSETFROM:+0200
TZOFFSETTO:+0100
TZNAME:CET
DTSTART:20241027T010000
END:STANDARD
BEGIN:DAYLIGHT
TZOFFSETFROM:+0100
TZOFFSETTO:+0200
TZNAME:CEST
DTSTART:20250330T010000
END:DAYLIGHT
BEGIN:STANDARD
TZOFFSETFROM:+0200
TZOFFSETTO:+0100
TZNAME:CET
DTSTART:20251026T010000
END:STANDARD
BEGIN:DAYLIGHT
TZOFFSETFROM:+0100
TZOFFSETTO:+0200
TZNAME:CEST
DTSTART:20260329T010000
END:DAYLIGHT
BEGIN:STANDARD
TZOFFSETFROM:+0200
TZOFFSETTO:+0100
TZNAME:CET
DTSTART:20261025T010000
END:STANDARD
END:VTIMEZONE
BEGIN:VEVENT
DTSTART;TZID=Europe/Paris:20250425T093000
DTEND;TZID=Europe/Paris:20250425T123000
DTSTAMP:20260422T184010
CREATED:20231127T151224Z
LAST-MODIFIED:20250415T141155Z
UID:133885-1745573400-1745584200@www.groupeone.be
SUMMARY:Workshop | Reprends le pouvoir sur tes finances avec Emilie Hawlena
DESCRIPTION:Tu veux reprendre le contrôle de tes finances mais ne sais pas par où commencer ? \n\n\nCette masterclass est conçue pour te guider étape par étape vers une gestion financière sereine et efficace. \n\n\nAu programme : \n\n\n\nExploration de ta relation à l’argent : Identifie tes habitudes financières et découvre comment les transformer ;\nDéfinition de tes objectifs financiers : Utilise la méthode SMART pour des objectifs clairs et atteignables ;\nCréation de ton tableau de gestion financière : Ton allié pour suivre et optimiser tes finances au quotidien ;\nMise en place de ton plan d’action pour reprendre le contrôle.\n\n\n\nÀ qui s’adresse cette masterclass ? \n\n\nCette masterclass s’adresse aux femmes qui souhaitent prendre le contrôle de leurs finances\, qu’elles soient novices ou déjà à l’aise avec leur budget. Elle est idéale pour celles qui veulent construire une stratégie financière alignée avec leurs ambitions personnelles et professionnelles. \n\n\nC’est pour toi si… \n\n\n\nTu gagnes ta vie correctement et pourtant tu n’arrives jamais à finir le mois ;\nTa carte de crédit est ta meilleure amie et ton pire ennemi à la fois ;\nTu peines à économiser et à le sentiment que ton argent t’échappe ;\nTu as du mal à suivre tes finances et souhaites une méthode claire.`\n\nTu repartiras avec : \n\n\n\nTes objectifs financiers définis ;\nTon tableau de gestion budgétaire clair ;\nUn plan d’action concret pour tes finances ;\nUne visions claire des actions à faire pour commencer à créer un patrimoine ;\nPlus de confiance et de sérénité vis à vis de tes finances.\n\nIntervenante : Emilie Hawlena\, consultante et formatrice\, fondatrice du réseau féminin Genuine et chargée du projet WomenLab. \n\n\nTravail préparatoire : \n\n\nIl te sera demandé de faire un travail préparatoire afin d’arriver au workshop avec des informations concrètes qui t’aideront à créer les outils financiers. Je vous prépare un réel atelier pratique ! Prête à reprendre le contrôle ? Inscris-toi et passe à l’action ! \n20 places disponibles au total  ; \n\nGratuit pour les participantes de la cohorte actuelle du WomenLab\, \n\n\n\n45 EUR pour les membres de la communauté\, \n\n\n\n\n90 EUR pour les non-membres \n🎟️ Billetterie ouverte : réservez votre place maintenant (nombre de places limité) ! \n\n\n\n 
URL:https://www.groupeone.be/event/workshop-womenlab-2/
LOCATION:Village Partenaire – Bruxelles\, Rue Fernand Bernier 15\, Saint-Gilles\, Bruxelles\, 1060
CATEGORIES:Atelier,Bruxelles,Wallonie,WomenLab
ATTACH;FMTTYPE=image/webp:https://www.groupeone.be/wp-content/uploads/2023/11/Workshop-WomenLab-Finance-Jaune_Plan-de-travail-1.webp
END:VEVENT
END:VCALENDAR