BEGIN:VCALENDAR
VERSION:2.0
PRODID:-//Groupe One - ECPv6.15.17//NONSGML v1.0//EN
CALSCALE:GREGORIAN
METHOD:PUBLISH
X-WR-CALNAME:Groupe One
X-ORIGINAL-URL:https://www.groupeone.be
X-WR-CALDESC:Évènements pour Groupe One
REFRESH-INTERVAL;VALUE=DURATION:PT1H
X-Robots-Tag:noindex
X-PUBLISHED-TTL:PT1H
BEGIN:VTIMEZONE
TZID:Europe/Paris
BEGIN:DAYLIGHT
TZOFFSETFROM:+0100
TZOFFSETTO:+0200
TZNAME:CEST
DTSTART:20240331T010000
END:DAYLIGHT
BEGIN:STANDARD
TZOFFSETFROM:+0200
TZOFFSETTO:+0100
TZNAME:CET
DTSTART:20241027T010000
END:STANDARD
BEGIN:DAYLIGHT
TZOFFSETFROM:+0100
TZOFFSETTO:+0200
TZNAME:CEST
DTSTART:20250330T010000
END:DAYLIGHT
BEGIN:STANDARD
TZOFFSETFROM:+0200
TZOFFSETTO:+0100
TZNAME:CET
DTSTART:20251026T010000
END:STANDARD
BEGIN:DAYLIGHT
TZOFFSETFROM:+0100
TZOFFSETTO:+0200
TZNAME:CEST
DTSTART:20260329T010000
END:DAYLIGHT
BEGIN:STANDARD
TZOFFSETFROM:+0200
TZOFFSETTO:+0100
TZNAME:CET
DTSTART:20261025T010000
END:STANDARD
END:VTIMEZONE
BEGIN:VEVENT
DTSTART;TZID=Europe/Paris:20250606T093000
DTEND;TZID=Europe/Paris:20250606T123000
DTSTAMP:20260422T140434
CREATED:20250409T132756Z
LAST-MODIFIED:20250415T141323Z
UID:137650-1749202200-1749213000@www.groupeone.be
SUMMARY:Workshop | Oser vendre et aimer ça avec Astrid Lefevre
DESCRIPTION:🗓 Le 6 juin à Bruxelles – 3h de workshop intensif avec Astrid Lefevre\, experte en vente et en développement commercial. \nVendre n’est pas inné. Et encore moins quand on vend son propre projet\, ses idées\, ses créations. \n\nOn doute. On tourne autour du prix. On n’ose pas prospecter. On a peur\, c’est inconfortable. Bref\, vendre devient un frein… alors que ça devrait être un levier.\n\nCe workshop est fait pour changer ça.\n\nPendant 3 heures\, Astrid vous embarque dans une approche concrète\, décomplexée et joyeuse de la vente. \nVous allez apprendre à : \n\n✨ Clarifier votre offre\, la rendre lisible\, irrésistible et cohérente avec votre mission\n💸 Trouver le bon prix\, celui qui reflète votre valeur et que vous assumerez pleinement\n📣 Vous approprier des techniques de vente efficaces sans jamais vous trahir\n🔍 Structurer une prospection qui vous ressemble\n🎯 Identifier vos freins invisibles à la vente\n\nUn atelier pratico-pratique\, bienveillant et puissant\, qui vous permettra de vous sentir alignée\, confiante et fière quand vous parlerez de ce que vous vendez. \nOser vendre… et vraiment aimer ça.\nC’est possible. Et c’est le 6 juin. \n🎟️ Billetterie ouverte – réservez votre place ici (nombre de places limité) !
URL:https://www.groupeone.be/event/workshop-womenlab-2-2/
LOCATION:Village Partenaire – Bruxelles\, Rue Fernand Bernier 15\, Saint-Gilles\, Bruxelles\, 1060
CATEGORIES:Atelier,Bruxelles,Wallonie,WomenLab
ATTACH;FMTTYPE=image/webp:https://www.groupeone.be/wp-content/uploads/2025/04/Workshop-Astrid-Vente_Plan-de-travail-1.webp
END:VEVENT
BEGIN:VEVENT
DTSTART;TZID=Europe/Paris:20250618T133000
DTEND;TZID=Europe/Paris:20250618T163000
DTSTAMP:20260422T140434
CREATED:20241018T120733Z
LAST-MODIFIED:20250313T103514Z
UID:135922-1750253400-1750264200@www.groupeone.be
SUMMARY:Atelier | Gagner du temps avec l'IA
DESCRIPTION:Dans cet atelier\, on va explorer comment utiliser l’IA pour t’aider dans divers domaines de ton projet.\n\nAu programme :\n\nQu’est-ce que l’IA ? : On commence par démystifier ce que c’est vraiment et comment ça peut t’aider au quotidien.\nL’IA au service de la communication : Découvre comment automatiser tes réponses\, créer des messages percutants et gérer tes réseaux sociaux plus facilement.\nGraphisme simplifié : Apprends à utiliser des outils d’IA pour concevoir des visuels attrayants sans y passer des heures.\nRédaction de contenu : Vois comment l’IA peut t’assister pour rédiger des posts\, des articles\, et des descriptions qui en jettent\, tout en gardant ton style unique.\nLes erreurs à éviter : On parlera des pièges courants\, comme ne pas personnaliser ton contenu ou devenir trop dépendant de ces outils\, et comment les éviter.\n\nObjectif : À la fin de cet atelier\, tu repartiras avec des astuces concrètes pour intégrer l’IA dans ton projet et gagner du temps\, tout en sachant comment l’utiliser intelligemment.
URL:https://www.groupeone.be/event/atelier-gagner-du-temps-avec-lia/
LOCATION:Village Partenaire – Bruxelles\, Rue Fernand Bernier 15\, Saint-Gilles\, Bruxelles\, 1060
CATEGORIES:Atelier,Bruxelles,Grow your business,Start your business
ATTACH;FMTTYPE=image/webp:https://www.groupeone.be/wp-content/uploads/2024/10/Ateliers-entrepreneuriat_gagner-du-temps-grace-a-l-IA.webp
END:VEVENT
END:VCALENDAR