BEGIN:VCALENDAR
VERSION:2.0
PRODID:-//Groupe One - ECPv6.15.17//NONSGML v1.0//EN
CALSCALE:GREGORIAN
METHOD:PUBLISH
X-ORIGINAL-URL:https://www.groupeone.be
X-WR-CALDESC:Évènements pour Groupe One
REFRESH-INTERVAL;VALUE=DURATION:PT1H
X-Robots-Tag:noindex
X-PUBLISHED-TTL:PT1H
BEGIN:VTIMEZONE
TZID:Europe/Paris
BEGIN:DAYLIGHT
TZOFFSETFROM:+0100
TZOFFSETTO:+0200
TZNAME:CEST
DTSTART:20240331T010000
END:DAYLIGHT
BEGIN:STANDARD
TZOFFSETFROM:+0200
TZOFFSETTO:+0100
TZNAME:CET
DTSTART:20241027T010000
END:STANDARD
BEGIN:DAYLIGHT
TZOFFSETFROM:+0100
TZOFFSETTO:+0200
TZNAME:CEST
DTSTART:20250330T010000
END:DAYLIGHT
BEGIN:STANDARD
TZOFFSETFROM:+0200
TZOFFSETTO:+0100
TZNAME:CET
DTSTART:20251026T010000
END:STANDARD
BEGIN:DAYLIGHT
TZOFFSETFROM:+0100
TZOFFSETTO:+0200
TZNAME:CEST
DTSTART:20260329T010000
END:DAYLIGHT
BEGIN:STANDARD
TZOFFSETFROM:+0200
TZOFFSETTO:+0100
TZNAME:CET
DTSTART:20261025T010000
END:STANDARD
END:VTIMEZONE
BEGIN:VEVENT
DTSTART;TZID=Europe/Paris:20251121T093000
DTEND;TZID=Europe/Paris:20251121T123000
DTSTAMP:20260421T130954
CREATED:20251103T155155Z
LAST-MODIFIED:20251112T193729Z
UID:138040-1763717400-1763728200@www.groupeone.be
SUMMARY:Oser vendre et aimer ça ! | Workshop Boost Your Project
DESCRIPTION:3h de workshop intensif avec Astrid Lefevre\, experte en vente et en développement commercial. \nVendre n’est pas inné. Et encore moins quand on vend son propre projet\, ses idées\, ses créations.\nOn doute. On tourne autour du prix. On n’ose pas prospecter. On a peur\, c’est inconfortable. Bref\, vendre devient un frein… alors que ça devrait être un levier. \nCe workshop est fait pour changer ça.\nPendant 3 heures\, Astrid vous embarque dans une approche concrète\, décomplexée et joyeuse de la vente. \nVous allez apprendre à : \n✨ Clarifier votre offre\, la rendre lisible\, irrésistible et cohérente avec votre mission\n💸 Trouver le bon prix\, celui qui reflète votre valeur et que vous assumerez pleinement\n📣 Vous approprier des techniques de vente efficaces sans jamais vous trahir\n🔍 Structurer une prospection qui vous ressemble\n🎯 Identifier vos freins invisibles à la vente\nUn atelier pratico-pratique\, bienveillant et puissant\, qui vous permettra de vous sentir alignée\, confiante et fière quand vous parlerez de ce que vous vendez. \nOser vendre… et vraiment aimer ça. C’est possible ! Et c’est le 21 novembre.
URL:https://www.groupeone.be/event/oser-vendre/
LOCATION:Village Partenaire – Bruxelles\, Rue Fernand Bernier 15\, Saint-Gilles\, Bruxelles\, 1060
CATEGORIES:Atelier,Bruxelles,Start your business
ATTACH;FMTTYPE=image/webp:https://www.groupeone.be/wp-content/uploads/2025/11/BL_Workshop_Astrid.webp
END:VEVENT
END:VCALENDAR