BEGIN:VCALENDAR
VERSION:2.0
PRODID:-//Groupe One - ECPv6.15.17//NONSGML v1.0//EN
CALSCALE:GREGORIAN
METHOD:PUBLISH
X-ORIGINAL-URL:https://www.groupeone.be
X-WR-CALDESC:Évènements pour Groupe One
REFRESH-INTERVAL;VALUE=DURATION:PT1H
X-Robots-Tag:noindex
X-PUBLISHED-TTL:PT1H
BEGIN:VTIMEZONE
TZID:Europe/Paris
BEGIN:DAYLIGHT
TZOFFSETFROM:+0100
TZOFFSETTO:+0200
TZNAME:CEST
DTSTART:20240331T010000
END:DAYLIGHT
BEGIN:STANDARD
TZOFFSETFROM:+0200
TZOFFSETTO:+0100
TZNAME:CET
DTSTART:20241027T010000
END:STANDARD
BEGIN:DAYLIGHT
TZOFFSETFROM:+0100
TZOFFSETTO:+0200
TZNAME:CEST
DTSTART:20250330T010000
END:DAYLIGHT
BEGIN:STANDARD
TZOFFSETFROM:+0200
TZOFFSETTO:+0100
TZNAME:CET
DTSTART:20251026T010000
END:STANDARD
BEGIN:DAYLIGHT
TZOFFSETFROM:+0100
TZOFFSETTO:+0200
TZNAME:CEST
DTSTART:20260329T010000
END:DAYLIGHT
BEGIN:STANDARD
TZOFFSETFROM:+0200
TZOFFSETTO:+0100
TZNAME:CET
DTSTART:20261025T010000
END:STANDARD
END:VTIMEZONE
BEGIN:VEVENT
DTSTART;TZID=Europe/Paris:20251001T133000
DTEND;TZID=Europe/Paris:20251001T163000
DTSTAMP:20260422T034334
CREATED:20250911T102623Z
LAST-MODIFIED:20260202T133520Z
UID:137833-1759325400-1759336200@www.groupeone.be
SUMMARY:Alimentation durable | Stratégie de communication
DESCRIPTION:Que tu sois producteur·rice\, transformateur·rice ou porteur·se de projet dans l’alimentation durable\, tu vas enfin comprendre comment : \n\n\nIdentifier ton public cible et adapter ton message pour qu’il te comprenne vraiment \n\n\nChoisir les bons canaux de communication (réseaux sociaux\, presse locale\, bouche-à-oreille\, etc.) sans t’éparpiller \n\n\nConstruire une image cohérente qui met en valeur ton projet et tes valeurs \n\n\nGagner en visibilité sans y passer toutes tes soirées et week-ends \n\n\nCe que tu vas apprendre : \n\n\nClarifier ton positionnement et ton discours \n\n\nÉlaborer une stratégie de communication réaliste et adaptée à tes moyens \n\n\nMettre en place des actions simples mais efficaces pour toucher tes clients et partenaires \n\n\nBref\, si tu as l’impression de communiquer dans le vide ou que tes efforts n’amènent pas de résultats concrets\, cet atelier est fait pour toi ! Tu repartiras avec un plan clair et des outils pratiques pour te faire entendre et reconnaître. \nPour qui ? Les entrepreneur·es du secteur de l’alimentation durable. \nCette formation s’inscrit dans le cadre du projet de la future Halle Alimentaire de Saint-Gilles\, cofinancé par la Région de Bruxelles-Capitale et l’Union européenne (FEDER)\, qui soutiennent la transition économique des PME bruxelloises vers des modèles plus durables et résilients.
URL:https://www.groupeone.be/event/atelier-ad-strategie-de-communication/
LOCATION:Village Partenaire – Bruxelles\, Rue Fernand Bernier 15\, Saint-Gilles\, Bruxelles\, 1060
CATEGORIES:Atelier,Bruxelles,Start your business
END:VEVENT
BEGIN:VEVENT
DTSTART;TZID=Europe/Paris:20251015T133000
DTEND;TZID=Europe/Paris:20251015T163000
DTSTAMP:20260422T034334
CREATED:20250911T101159Z
LAST-MODIFIED:20251007T122741Z
UID:137829-1760535000-1760545800@www.groupeone.be
SUMMARY:Alimentation durable | Optimiser ta rentabilité
DESCRIPTION:Que tu vendes des produits ou des services dans le secteur de l’alimentation durable\, ce workshop te permettra de : \n\n\n(Re)Calculer un tarif horaire qui respecte ton travail\nFixer le prix de tes produits ou services en tenant compte de plusieurs paramètres comme tes matières premières\, tes charges fixes\, tes cotisations\, etc.\nArrêter de te comparer aux autres et afficher un prix qui reflète ta vraie valeur\nRépercuter l’augmentation des tes matières premières et charges fixes sur tes prix de vente\n\nCe sur quoi nous allons travailler :\n\nMettre un prix juste\, sans avoir peur de demander trop cher.\nMaîtriser les marges\, taux de marges\, chiffres d’affaires et autres bénéfices bruts\nRester compétiti·f·ve tout en t’assurant que ton business soit rentable.\n\nTu repartiras avec une méthode simple pour être à l’aise avec les montants à facturer.\n\nPour qui ? Les entrepreneur·es du secteur de l’alimentation durable.\n\n\nCes ateliers s’inscrivent dans le cadre du projet de la nouvelle Halle alimentaire de Saint-Gilles\, financé par le FEDER (Fonds européen de développement régional) et la Région de Bruxelles-Capitale. \n\n  \n    Inscris-toi ici !
URL:https://www.groupeone.be/event/atelier-ad-comment-fixer-ses-prix/
LOCATION:Village Partenaire – Bruxelles\, Rue Fernand Bernier 15\, Saint-Gilles\, Bruxelles\, 1060
CATEGORIES:Atelier,Bruxelles,Start your business
ATTACH;FMTTYPE=image/webp:https://www.groupeone.be/wp-content/uploads/2025/09/164_Workshop_prix.webp
END:VEVENT
END:VCALENDAR