BEGIN:VCALENDAR
VERSION:2.0
PRODID:-//Groupe One - ECPv6.15.17//NONSGML v1.0//EN
CALSCALE:GREGORIAN
METHOD:PUBLISH
X-WR-CALNAME:Groupe One
X-ORIGINAL-URL:https://www.groupeone.be
X-WR-CALDESC:Évènements pour Groupe One
REFRESH-INTERVAL;VALUE=DURATION:PT1H
X-Robots-Tag:noindex
X-PUBLISHED-TTL:PT1H
BEGIN:VTIMEZONE
TZID:Europe/Paris
BEGIN:DAYLIGHT
TZOFFSETFROM:+0100
TZOFFSETTO:+0200
TZNAME:CEST
DTSTART:20250330T010000
END:DAYLIGHT
BEGIN:STANDARD
TZOFFSETFROM:+0200
TZOFFSETTO:+0100
TZNAME:CET
DTSTART:20251026T010000
END:STANDARD
BEGIN:DAYLIGHT
TZOFFSETFROM:+0100
TZOFFSETTO:+0200
TZNAME:CEST
DTSTART:20260329T010000
END:DAYLIGHT
BEGIN:STANDARD
TZOFFSETFROM:+0200
TZOFFSETTO:+0100
TZNAME:CET
DTSTART:20261025T010000
END:STANDARD
BEGIN:DAYLIGHT
TZOFFSETFROM:+0100
TZOFFSETTO:+0200
TZNAME:CEST
DTSTART:20270328T010000
END:DAYLIGHT
BEGIN:STANDARD
TZOFFSETFROM:+0200
TZOFFSETTO:+0100
TZNAME:CET
DTSTART:20271031T010000
END:STANDARD
END:VTIMEZONE
BEGIN:VEVENT
DTSTART;TZID=Europe/Paris:20260309T093000
DTEND;TZID=Europe/Paris:20260309T123000
DTSTAMP:20260421T113443
CREATED:20251103T160119Z
LAST-MODIFIED:20260306T105754Z
UID:138046-1773048600-1773059400@www.groupeone.be
SUMMARY:La com'\, ton super pouvoir ! | Workshop Boost Your Project ⚠️ COMPLET
DESCRIPTION:CE WORKSHOP EST COMPLET ⚠️ \nGrâce à ce workshop de 2h30\, tu vas enfin comprendre comment : \n\n\nIdentifier ton public cible et adapter ton message pour qu’il te comprenne vraiment \n\n\nChoisir les bons canaux de communication (réseaux sociaux\, presse locale\, bouche-à-oreille\, etc.) sans t’éparpiller \n\n\nConstruire une image cohérente qui met en valeur ton projet et tes valeurs \n\n\nGagner en visibilité sans y passer toutes tes soirées et week-ends \n\n\nCe que tu vas apprendre : \n\n\nClarifier ton positionnement et ton discours \n\n\nÉlaborer une stratégie de communication réaliste et adaptée à tes moyens \n\n\nMettre en place des actions simples mais efficaces pour toucher tes clients et partenaires \n\n\nBref\, si tu as l’impression de communiquer dans le vide ou que tes efforts n’amènent pas de résultats concrets\, cet atelier est fait pour toi ! Tu repartiras avec un plan clair et des outils pratiques pour te faire entendre et reconnaître. \nPour qui ? Les jeunes bruxellois qui veulent créer leur business. \nIntervenantes : Emilie Hawlena (Groupe One)\, Nathalie Dupriez (Groupe One)
URL:https://www.groupeone.be/event/la-com-ton-super-pouvoir/
LOCATION:Village Partenaire – Bruxelles\, Rue Fernand Bernier 15\, Saint-Gilles\, Bruxelles\, 1060
CATEGORIES:Atelier,Bruxelles,Start your business
ATTACH;FMTTYPE=image/webp:https://www.groupeone.be/wp-content/uploads/2025/11/BL_Workshop_Com.webp
END:VEVENT
BEGIN:VEVENT
DTSTART;TZID=Europe/Paris:20260320T093000
DTEND;TZID=Europe/Paris:20260320T120000
DTSTAMP:20260421T113443
CREATED:20251103T162311Z
LAST-MODIFIED:20251106T084940Z
UID:138055-1773999000-1774008000@www.groupeone.be
SUMMARY:Ton argumentaire commercial\, avec Astrid | Workshop Boost Your Project
DESCRIPTION:Grâce à ce workshop de 2h30 avec Astrid Lefevre\, experte en vente et en développement commercial\, tu vas enfin comprendre comment : \n🎤 Parler de ton projet avec aisance et impact💬 Trouver les bons mots pour convaincre sans te trahir🧠 Structurer ton discours en fonction de ton interlocuteur (client\, partenaire\, investisseur…)💪 Te sentir légitime et confiant·e quand tu présentes ton idée \nCe que tu vas apprendre : \n\n\nConstruire un argumentaire solide et authentique \n\n\nIdentifier ce qui fait la différence dans ton projet et le valoriser \n\n\nAdapter ton discours pour susciter l’intérêt et l’adhésion \n\n\nBref\, si tu galères à “vendre ton projet” ou à captiver ton auditoire\, cet atelier est fait pour toi ! Tu repartiras avec un pitch clair\, des arguments percutants et une bonne dose de confiance pour faire passer ton message. \n👉 Pour qui ? Les jeunes bruxellois qui veulent apprendre à défendre et valoriser leur projet comme des pros.
URL:https://www.groupeone.be/event/ton-argumentaire-commercial-avec-astrid/
LOCATION:Village Partenaire – Bruxelles\, Rue Fernand Bernier 15\, Saint-Gilles\, Bruxelles\, 1060
CATEGORIES:Atelier,Bruxelles,Start your business
ATTACH;FMTTYPE=image/webp:https://www.groupeone.be/wp-content/uploads/2025/11/BL_Workshop_Argu.webp
END:VEVENT
BEGIN:VEVENT
DTSTART;TZID=Europe/Paris:20260326T180000
DTEND;TZID=Europe/Paris:20260326T210000
DTSTAMP:20260421T113443
CREATED:20260306T112136Z
LAST-MODIFIED:20260306T133008Z
UID:138425-1774548000-1774558800@www.groupeone.be
SUMMARY:BoostNight - Projet cherche Associés
DESCRIPTION:Tu as un projet… mais il te manque peut-être la bonne personne pour le faire décoller ?Ou au contraire\, tu as envie de rejoindre une aventure entrepreneuriale qui a du sens ? \nAlors cette soirée est faite pour toi. \nLa Boost Night « Projet cherche associé·e » 🚀 est une soirée de rencontres et de pitches dédiée aux personnes qui veulent construire des projets engagés et rencontrer leurs futurs partenaires d’aventure. \nAu programme :✨ Une dizaine de porteurs et porteuses de projets viennent pitcher leur idée en quelques minutes✨ Des rencontres avec des personnes motivées pour rejoindre\, soutenir ou collaborer à ces projets✨ Un moment convivial pour échanger\, réseauter et s’inspirer \nQue tu sois :• à la recherche d’un·e associé·e• curieux·se de découvrir des projets engagés• prêt·e à rejoindre une aventure entrepreneuriale• ou simplement intéressé·e par l’écosystème entrepreneurial \n👉 cette soirée est pour toi. \nDans une ambiance bienveillante\, dynamique et ouverte\, viens rencontrer celles et ceux qui veulent construire le monde de demain. \n📍 Lieu : Haute École Francisco Ferrer🎟️ Participation gratuite – inscription recommandée \nÉvénement organisé par Boost Lab (Groupe One)\, Ferrer Entreprendre et Déclic en Perspective.
URL:https://www.groupeone.be/event/boostnight-projet-cherche-associes/
LOCATION:HEFF\, 11 Place Anneessens\, Bruxelles\, 1000\, Belgium
CATEGORIES:Bruxelles,Événement,Start your business
ATTACH;FMTTYPE=image/png:https://www.groupeone.be/wp-content/uploads/2026/03/Capture-decran-2026-03-06-a-12.14.21.png
END:VEVENT
END:VCALENDAR