BEGIN:VCALENDAR
VERSION:2.0
PRODID:-//Groupe One - ECPv6.15.17//NONSGML v1.0//EN
CALSCALE:GREGORIAN
METHOD:PUBLISH
X-WR-CALNAME:Groupe One
X-ORIGINAL-URL:https://www.groupeone.be
X-WR-CALDESC:Évènements pour Groupe One
REFRESH-INTERVAL;VALUE=DURATION:PT1H
X-Robots-Tag:noindex
X-PUBLISHED-TTL:PT1H
BEGIN:VTIMEZONE
TZID:Europe/Paris
BEGIN:DAYLIGHT
TZOFFSETFROM:+0100
TZOFFSETTO:+0200
TZNAME:CEST
DTSTART:20240331T010000
END:DAYLIGHT
BEGIN:STANDARD
TZOFFSETFROM:+0200
TZOFFSETTO:+0100
TZNAME:CET
DTSTART:20241027T010000
END:STANDARD
BEGIN:DAYLIGHT
TZOFFSETFROM:+0100
TZOFFSETTO:+0200
TZNAME:CEST
DTSTART:20250330T010000
END:DAYLIGHT
BEGIN:STANDARD
TZOFFSETFROM:+0200
TZOFFSETTO:+0100
TZNAME:CET
DTSTART:20251026T010000
END:STANDARD
BEGIN:DAYLIGHT
TZOFFSETFROM:+0100
TZOFFSETTO:+0200
TZNAME:CEST
DTSTART:20260329T010000
END:DAYLIGHT
BEGIN:STANDARD
TZOFFSETFROM:+0200
TZOFFSETTO:+0100
TZNAME:CET
DTSTART:20261025T010000
END:STANDARD
END:VTIMEZONE
BEGIN:VEVENT
DTSTART;TZID=Europe/Paris:20250514T133000
DTEND;TZID=Europe/Paris:20250514T163000
DTSTAMP:20260422T185729
CREATED:20241018T115907Z
LAST-MODIFIED:20241018T115907Z
UID:135918-1747229400-1747240200@www.groupeone.be
SUMMARY:Atelier | Entreprendre à plusieurs
DESCRIPTION:Au menu :\n\nLes bases d’un bon partenariat : avant de se lancer à plusieurs\, il y a des questions cruciales à se poser ! Quelles sont vos valeurs ? Vos rôles respectifs ? On t’aide à clarifier tout ça pour éviter les malentendus dès le départ.\nLe pacte d’associé·es\, ton meilleur allié : c’est LE document qui va tout structurer. Qu’est-ce qu’il contient\, pourquoi il est indispensable\, et comment le rédiger pour couvrir tous les scénarios possibles (même ceux auxquels tu n’as pas encore pensé !) ?\nLes erreurs classiques à éviter : pas de panique\, on est là pour t’éviter les pièges dans lesquels tombent la plupart des associé·es. On te donne les clés pour éviter les malentendus\, les frustrations et les clashs.\nLes précautions à prendre : de la répartition des parts aux droits de décision\, en passant par la sortie d’un·e associé·e\, on te parle des précautions essentielles à prendre pour que tout roule dans ton business.\nExercice pratique : imagine ton pacte d’associé·es : repars avec un premier jet de pacte\, adapté à ton projet\, pour poser des bases solides avec ton ou tes futur·es partenaires.\n\nObjectif : à la fin de cet atelier\, tu sauras comment t’associer sereinement\, poser des règles claires et éviter les tensions pour que ton aventure entrepreneuriale soit aussi fun que fructueuse !
URL:https://www.groupeone.be/event/atelier-entreprendre-a-plusieurs/
LOCATION:Village Partenaire – Bruxelles\, Rue Fernand Bernier 15\, Saint-Gilles\, Bruxelles\, 1060
CATEGORIES:Atelier,Bruxelles,Grow your business,Start your business
ATTACH;FMTTYPE=image/webp:https://www.groupeone.be/wp-content/uploads/2024/10/Ateliers-entrepreneuriat_entreprendre-a-plusieurs.webp
END:VEVENT
END:VCALENDAR