BEGIN:VCALENDAR
VERSION:2.0
PRODID:-//Groupe One - ECPv6.15.17//NONSGML v1.0//EN
CALSCALE:GREGORIAN
METHOD:PUBLISH
X-WR-CALNAME:Groupe One
X-ORIGINAL-URL:https://www.groupeone.be
X-WR-CALDESC:Évènements pour Groupe One
REFRESH-INTERVAL;VALUE=DURATION:PT1H
X-Robots-Tag:noindex
X-PUBLISHED-TTL:PT1H
BEGIN:VTIMEZONE
TZID:Europe/Paris
BEGIN:DAYLIGHT
TZOFFSETFROM:+0100
TZOFFSETTO:+0200
TZNAME:CEST
DTSTART:20240331T010000
END:DAYLIGHT
BEGIN:STANDARD
TZOFFSETFROM:+0200
TZOFFSETTO:+0100
TZNAME:CET
DTSTART:20241027T010000
END:STANDARD
BEGIN:DAYLIGHT
TZOFFSETFROM:+0100
TZOFFSETTO:+0200
TZNAME:CEST
DTSTART:20250330T010000
END:DAYLIGHT
BEGIN:STANDARD
TZOFFSETFROM:+0200
TZOFFSETTO:+0100
TZNAME:CET
DTSTART:20251026T010000
END:STANDARD
BEGIN:DAYLIGHT
TZOFFSETFROM:+0100
TZOFFSETTO:+0200
TZNAME:CEST
DTSTART:20260329T010000
END:DAYLIGHT
BEGIN:STANDARD
TZOFFSETFROM:+0200
TZOFFSETTO:+0100
TZNAME:CET
DTSTART:20261025T010000
END:STANDARD
END:VTIMEZONE
BEGIN:VEVENT
DTSTART;TZID=Europe/Paris:20250218T120000
DTEND;TZID=Europe/Paris:20250218T130000
DTSTAMP:20260425T014613
CREATED:20250211T200452Z
LAST-MODIFIED:20250214T171956Z
UID:136730-1739880000-1739883600@www.groupeone.be
SUMMARY:Séance d'info WomenLab
DESCRIPTION:Tu rêves de lancer un projet d’entreprise ? De devenir indépendante ? Que tu en sois au stade d’idée ou que ton projet soit déjà clair\, passe à l’action au sein de notre incubateur 100% féminin ! \nC’est le moment de franchir le premier pas et de rejoindre cette séance d’information ! \nLe WomenLab est un parcours inspirant lors duquel tu es entourée d’autres femmes entrepreneures et d’expert·es pour t’aider à franchir chaque étape vers ta nouvelle vie professionnelle. \nRéserve ta place et tu recevras le lien pour nous rejoindre 24h avant la séance. \nÉgalement plus d’info sur notre page web WomenLab.
URL:https://www.groupeone.be/event/seance-dinfo-womenlab-2/
LOCATION:En ligne
CATEGORIES:Bruxelles,En ligne,Séance d'information,Wallonie,WomenLab
ATTACH;FMTTYPE=image/webp:https://www.groupeone.be/wp-content/uploads/2025/02/WomenLab_seance-d-info_miniature.webp
END:VEVENT
END:VCALENDAR